BEGIN:VCALENDAR
VERSION:2.0
PRODID:-//Arrow – Child &amp; Family Ministries - ECPv6.15.20//NONSGML v1.0//EN
CALSCALE:GREGORIAN
METHOD:PUBLISH
X-ORIGINAL-URL:https://arrow.org
X-WR-CALDESC:Events for Arrow – Child &amp; Family Ministries
REFRESH-INTERVAL;VALUE=DURATION:PT1H
X-Robots-Tag:noindex
X-PUBLISHED-TTL:PT1H
BEGIN:VTIMEZONE
TZID:America/Chicago
BEGIN:DAYLIGHT
TZOFFSETFROM:-0600
TZOFFSETTO:-0500
TZNAME:CDT
DTSTART:20250309T080000
END:DAYLIGHT
BEGIN:STANDARD
TZOFFSETFROM:-0500
TZOFFSETTO:-0600
TZNAME:CST
DTSTART:20251102T070000
END:STANDARD
BEGIN:DAYLIGHT
TZOFFSETFROM:-0600
TZOFFSETTO:-0500
TZNAME:CDT
DTSTART:20260308T080000
END:DAYLIGHT
BEGIN:STANDARD
TZOFFSETFROM:-0500
TZOFFSETTO:-0600
TZNAME:CST
DTSTART:20261101T070000
END:STANDARD
BEGIN:DAYLIGHT
TZOFFSETFROM:-0600
TZOFFSETTO:-0500
TZNAME:CDT
DTSTART:20270314T080000
END:DAYLIGHT
BEGIN:STANDARD
TZOFFSETFROM:-0500
TZOFFSETTO:-0600
TZNAME:CST
DTSTART:20271107T070000
END:STANDARD
END:VTIMEZONE
BEGIN:VEVENT
DTSTART;TZID=America/Chicago:20261003T100000
DTEND;TZID=America/Chicago:20261003T130000
DTSTAMP:20260423T181354
CREATED:20260317T014914Z
LAST-MODIFIED:20260317T014914Z
UID:10000007-1791021600-1791032400@arrow.org
SUMMARY:Pickle Ball with Arrow Young Professionals
DESCRIPTION:Grab your paddle and join the fun! On October 3 from 10 AM – 1 PM\, we’re hosting a pickleball gathering filled with friendly competition\, delicious bites\, refreshing drinks\, and time with a pickleball coach to help you level up your game. \nCome ready to dink\, rally\, and relish the moment—it’s going to be a big dill!
URL:https://arrow.org/event/pickle-ball-with-arrow-young-professionals/
LOCATION:Bumpy Pickle\, 554 Lockwood Dr.\, Houston\, TX\, 77011\, United States
CATEGORIES:Arrow Young Professionals
END:VEVENT
END:VCALENDAR