BEGIN:VCALENDAR
VERSION:2.0
PRODID:-//Arrow – Child &amp; Family Ministries - ECPv6.15.20//NONSGML v1.0//EN
CALSCALE:GREGORIAN
METHOD:PUBLISH
X-ORIGINAL-URL:https://arrow.org
X-WR-CALDESC:Events for Arrow – Child &amp; Family Ministries
REFRESH-INTERVAL;VALUE=DURATION:PT1H
X-Robots-Tag:noindex
X-PUBLISHED-TTL:PT1H
BEGIN:VTIMEZONE
TZID:America/Chicago
BEGIN:DAYLIGHT
TZOFFSETFROM:-0600
TZOFFSETTO:-0500
TZNAME:CDT
DTSTART:20250309T080000
END:DAYLIGHT
BEGIN:STANDARD
TZOFFSETFROM:-0500
TZOFFSETTO:-0600
TZNAME:CST
DTSTART:20251102T070000
END:STANDARD
BEGIN:DAYLIGHT
TZOFFSETFROM:-0600
TZOFFSETTO:-0500
TZNAME:CDT
DTSTART:20260308T080000
END:DAYLIGHT
BEGIN:STANDARD
TZOFFSETFROM:-0500
TZOFFSETTO:-0600
TZNAME:CST
DTSTART:20261101T070000
END:STANDARD
BEGIN:DAYLIGHT
TZOFFSETFROM:-0600
TZOFFSETTO:-0500
TZNAME:CDT
DTSTART:20270314T080000
END:DAYLIGHT
BEGIN:STANDARD
TZOFFSETFROM:-0500
TZOFFSETTO:-0600
TZNAME:CST
DTSTART:20271107T070000
END:STANDARD
END:VTIMEZONE
BEGIN:VEVENT
DTSTART;TZID=America/Chicago:20260323T090000
DTEND;TZID=America/Chicago:20260323T143000
DTSTAMP:20260419T075349
CREATED:20251001T185318Z
LAST-MODIFIED:20251007T153743Z
UID:10000005-1774256400-1774276200@arrow.org
SUMMARY:Clays for Kids - Sporting Clays Tournament 2026
DESCRIPTION:Arrow’s 2nd Annual Sporting Clays Tournament\n\nWe are hosting our annual Clays for Kids tournament at the Greater Houston Sports Club! This exciting event combines the thrill of sporting clays with the opportunity to support a great cause. Enjoy a day of friendly competition\, camaraderie\, and philanthropy as participants aim for their best shot. Whether you’re a seasoned shooter or new to the sport\, this event welcomes all skill levels.100% of the proceeds from the tournament will benefit Arrow Child & Family Ministries\, helping us continue our mission of providing resources for hope and healing to children in foster care. \nDon’t miss this chance to make a difference while enjoying an unforgettable day outdoors. Register today to secure your spot or become a sponsor and help us make a lasting impact! \n 
URL:https://arrow.org/event/clay-for-kids-sporting-clays-tournament-2026/
LOCATION:Greater Houston Sports Club\, 6700 McHard Rd\, Houston\, TX\, 77053\, United States
CATEGORIES:Kinship
END:VEVENT
END:VCALENDAR